BEGIN:VCALENDAR
VERSION:2.0
PRODID:-//epilepsisallskapet.se - ECPv6.15.20//NONSGML v1.0//EN
CALSCALE:GREGORIAN
METHOD:PUBLISH
X-WR-CALNAME:epilepsisallskapet.se
X-ORIGINAL-URL:https://epilepsisallskapet.eu
X-WR-CALDESC:Händelser för epilepsisallskapet.se
REFRESH-INTERVAL;VALUE=DURATION:PT1H
X-Robots-Tag:noindex
X-PUBLISHED-TTL:PT1H
BEGIN:VTIMEZONE
TZID:UTC
BEGIN:STANDARD
TZOFFSETFROM:+0000
TZOFFSETTO:+0000
TZNAME:UTC
DTSTART:20250101T000000
END:STANDARD
END:VTIMEZONE
BEGIN:VEVENT
DTSTART;TZID=UTC:20260503T000000
DTEND;TZID=UTC:20260506T235959
DTSTAMP:20260419T124918
CREATED:20260226T211633Z
LAST-MODIFIED:20260226T211633Z
UID:9240-1777766400-1778111999@epilepsisallskapet.eu
SUMMARY:Eighteenth Eilat Conference on New Antiepileptic Drugs and Devices (Eilat XVIII)
DESCRIPTION:Based on the success of the past seventeen Eilat Conferences on New Antiepileptic Drugs (AEDs)\, the Organizing Committee takes pleasure in inviting you to participate in the Eighteenth Eilat Conference on New Antiepileptic Drugs and Devices (EILAT XVIII)\, which will take place in Madrid\, Spain\, May 3-6\, 2026. \nEILAT XVIII (2026) Program \n  \n 
URL:https://epilepsisallskapet.eu/event/eighteenth-eilat-conference-on-new-antiepileptic-drugs-and-devices-eilat-xviii/
LOCATION:Meliá Castilla Hotel & Convention Center Poeta Joan Maragall 43 – 28020 Madrid\, Poeta Joan Maragall 43\, Madrid\, 28020\, Spain
END:VEVENT
BEGIN:VEVENT
DTSTART;TZID=UTC:20270407T000000
DTEND;TZID=UTC:20270409T235959
DTSTAMP:20260419T124918
CREATED:20260326T203452Z
LAST-MODIFIED:20260326T203452Z
UID:9306-1807056000-1807315199@epilepsisallskapet.eu
SUMMARY:4th International congress on Structural Epilepsy & Symptomatic Seizures (STESS)
DESCRIPTION:Welcome to the 4th International congress on Structural Epilepsy & Symptomatic Seizures (STESS). \nLocation: Wallenberg Centre\, Gothenburg\nDates: April 7-9\, 2027\nOrganizers: Johan Zelano and Francesco Brigo\nHost organization: University of Gothenburg \nBuilding on the success of previous editions in 2019\, 2023\, and 2025\, the International Congress on Structural Epilepsy & Symptomatic Seizures (STESS) returns to Gothenburg in 2027. The three-day meeting focuses on symptomatic seizures and structural epilepsies and brings together clinicians and researchers across neurology\, stroke\, epilepsy\, and neurocritical care. \nThe program features cutting-edge research and clinical presentations\, a teaching course for early-career scientists and clinicians\, and a new interactive meeting format with discussion-based sessions. We welcome abstract submissions for both poster and platform presentations. \nJoin us at Wallenberg Congress Center in Gothenburg on 7-9 April\, 2027. \nWelcome! \nFrancesco Brigo\nJohan Zelano
URL:https://epilepsisallskapet.eu/event/4th-international-congress-on-structural-epilepsy-symptomatic-seizures-stess/
LOCATION:Wallenberg Centre\, Gothenburg\, Medicinaregatan 20\, Göteborg\, 413 90\, Sweden
END:VEVENT
END:VCALENDAR